BEGIN:VCALENDAR
VERSION:2.0
PRODID:-//FVDF - INGRESSOS - ECPv6.15.20//NONSGML v1.0//EN
CALSCALE:GREGORIAN
METHOD:PUBLISH
X-WR-CALNAME:FVDF - INGRESSOS
X-ORIGINAL-URL:https://fvdf.com.br
X-WR-CALDESC:Eventos para FVDF - INGRESSOS
REFRESH-INTERVAL;VALUE=DURATION:PT1H
X-Robots-Tag:noindex
X-PUBLISHED-TTL:PT1H
BEGIN:VTIMEZONE
TZID:America/Sao_Paulo
BEGIN:STANDARD
TZOFFSETFROM:-0300
TZOFFSETTO:-0300
TZNAME:-03
DTSTART:20230101T000000
END:STANDARD
END:VTIMEZONE
BEGIN:VEVENT
DTSTART;VALUE=DATE:20240914
DTEND;VALUE=DATE:20240916
DTSTAMP:20260423T142600
CREATED:20240813T212625Z
LAST-MODIFIED:20240814T223340Z
UID:1407-1726272000-1726444799@fvdf.com.br
SUMMARY:1ª Etapa Campeonato Brasiliense Juvenil
DESCRIPTION:
URL:https://fvdf.com.br/calendario/1a-e-2a-etapas-do-campeonato-brasiliense-juvenil/
CATEGORIES:Competição,Vôlei de Quadra
ORGANIZER;CN="FVDF":MAILTO:distritofederal@volei.org.br
END:VEVENT
BEGIN:VEVENT
DTSTART;VALUE=DATE:20240921
DTEND;VALUE=DATE:20240923
DTSTAMP:20260423T142600
CREATED:20240813T215449Z
LAST-MODIFIED:20240814T223526Z
UID:1411-1726876800-1727049599@fvdf.com.br
SUMMARY:1ª Etapa Campeonato Brasiliense Juvenil
DESCRIPTION:
URL:https://fvdf.com.br/calendario/1a-e-2a-etapas-do-campeonato-brasiliense-juvenil-2/
CATEGORIES:Competição,Vôlei de Quadra
ORGANIZER;CN="FVDF":MAILTO:distritofederal@volei.org.br
END:VEVENT
BEGIN:VEVENT
DTSTART;VALUE=DATE:20240921
DTEND;VALUE=DATE:20240923
DTSTAMP:20260423T142600
CREATED:20240814T223626Z
LAST-MODIFIED:20240814T223626Z
UID:1465-1726876800-1727049599@fvdf.com.br
SUMMARY:2ª Etapa do Campeonato Brasiliense Infantil
DESCRIPTION:
URL:https://fvdf.com.br/calendario/2a-etapa-do-campeonato-brasiliense-infantil-2/
CATEGORIES:Competição,Vôlei de Quadra
ORGANIZER;CN="FVDF":MAILTO:distritofederal@volei.org.br
END:VEVENT
BEGIN:VEVENT
DTSTART;VALUE=DATE:20240928
DTEND;VALUE=DATE:20240930
DTSTAMP:20260423T142600
CREATED:20240813T215559Z
LAST-MODIFIED:20240814T223712Z
UID:1413-1727481600-1727654399@fvdf.com.br
SUMMARY:1ª Etapa Campeonato Brasiliense Juvenil
DESCRIPTION:
URL:https://fvdf.com.br/calendario/1a-e-2a-etapas-do-campeonato-brasiliense-juvenil-3/
CATEGORIES:Competição,Vôlei de Quadra
ORGANIZER;CN="FVDF":MAILTO:distritofederal@volei.org.br
END:VEVENT
BEGIN:VEVENT
DTSTART;VALUE=DATE:20240928
DTEND;VALUE=DATE:20240930
DTSTAMP:20260423T142600
CREATED:20240814T223750Z
LAST-MODIFIED:20240814T223750Z
UID:1468-1727481600-1727654399@fvdf.com.br
SUMMARY:2ª Etapa do Campeonato Brasiliense Infantil
DESCRIPTION:
URL:https://fvdf.com.br/calendario/2a-etapa-do-campeonato-brasiliense-infantil-3/
CATEGORIES:Competição,Vôlei de Quadra
ORGANIZER;CN="FVDF":MAILTO:distritofederal@volei.org.br
END:VEVENT
END:VCALENDAR