BEGIN:VCALENDAR
VERSION:2.0
PRODID:-//FVDF - INGRESSOS - ECPv6.15.20//NONSGML v1.0//EN
CALSCALE:GREGORIAN
METHOD:PUBLISH
X-WR-CALNAME:FVDF - INGRESSOS
X-ORIGINAL-URL:https://fvdf.com.br
X-WR-CALDESC:Eventos para FVDF - INGRESSOS
REFRESH-INTERVAL;VALUE=DURATION:PT1H
X-Robots-Tag:noindex
X-PUBLISHED-TTL:PT1H
BEGIN:VTIMEZONE
TZID:America/Sao_Paulo
BEGIN:STANDARD
TZOFFSETFROM:-0300
TZOFFSETTO:-0300
TZNAME:-03
DTSTART:20230101T000000
END:STANDARD
END:VTIMEZONE
BEGIN:VEVENT
DTSTART;TZID=America/Sao_Paulo:20241128T080000
DTEND;TZID=America/Sao_Paulo:20241205T170000
DTSTAMP:20260423T093414
CREATED:20241002T212357Z
LAST-MODIFIED:20241002T212357Z
UID:1658-1732780800-1733418000@fvdf.com.br
SUMMARY:CURSO DE NIVELAMENTO DE VÔLEI DE QUADRA (HÍBRIDO)
DESCRIPTION:
URL:https://fvdf.com.br/calendario/curso-de-nivelamento-de-volei-de-quadra-hibrido/
LOCATION:ON LINE E PRESENCIAL
CATEGORIES:Gestão,Vôlei de Quadra
ORGANIZER;CN="FVDF":MAILTO:distritofederal@volei.org.br
END:VEVENT
BEGIN:VEVENT
DTSTART;VALUE=DATE:20241129
DTEND;VALUE=DATE:20241202
DTSTAMP:20260423T093414
CREATED:20240813T221308Z
LAST-MODIFIED:20240813T221308Z
UID:1440-1732838400-1733097599@fvdf.com.br
SUMMARY:3ª Etapa do Circuito FVDF de Vôlei de Praia
DESCRIPTION:
URL:https://fvdf.com.br/calendario/3a-etapa-do-circuito-fvdf-de-volei-de-praia/
CATEGORIES:Competição,Vôlei de Praia
ORGANIZER;CN="FVDF":MAILTO:distritofederal@volei.org.br
END:VEVENT
BEGIN:VEVENT
DTSTART;TZID=America/Sao_Paulo:20241130T080000
DTEND;TZID=America/Sao_Paulo:20241201T170000
DTSTAMP:20260423T093414
CREATED:20241002T211302Z
LAST-MODIFIED:20241002T211302Z
UID:1646-1732953600-1733072400@fvdf.com.br
SUMMARY:CAMPEONATO BRASILIENSE JUVENIL
DESCRIPTION:
URL:https://fvdf.com.br/calendario/campeonato-brasiliense-juvenil-2/
CATEGORIES:Competição,Vôlei de Quadra
ORGANIZER;CN="FVDF":MAILTO:distritofederal@volei.org.br
END:VEVENT
BEGIN:VEVENT
DTSTART;TZID=America/Sao_Paulo:20241206T080000
DTEND;TZID=America/Sao_Paulo:20241208T170000
DTSTAMP:20260423T093414
CREATED:20241002T212527Z
LAST-MODIFIED:20241002T212527Z
UID:1661-1733472000-1733677200@fvdf.com.br
SUMMARY:CURSO DE NIVELAMENTO DE VÔLEI DE QUADRA (HÍBRIDO)
DESCRIPTION:
URL:https://fvdf.com.br/calendario/curso-de-nivelamento-de-volei-de-quadra-hibrido-2/
CATEGORIES:Gestão,Vôlei de Quadra
ORGANIZER;CN="FVDF":MAILTO:distritofederal@volei.org.br
END:VEVENT
BEGIN:VEVENT
DTSTART;TZID=America/Sao_Paulo:20241207T080000
DTEND;TZID=America/Sao_Paulo:20241208T170000
DTSTAMP:20260423T093414
CREATED:20241002T211432Z
LAST-MODIFIED:20241002T211432Z
UID:1648-1733558400-1733677200@fvdf.com.br
SUMMARY:CAMPEONATO ADULTO ABERTO
DESCRIPTION:
URL:https://fvdf.com.br/calendario/campeonato-adulto-aberto-3/
CATEGORIES:Competição,Vôlei de Quadra
ORGANIZER;CN="FVDF":MAILTO:distritofederal@volei.org.br
END:VEVENT
BEGIN:VEVENT
DTSTART;VALUE=DATE:20241214
DTEND;VALUE=DATE:20241216
DTSTAMP:20260423T093414
CREATED:20240813T221501Z
LAST-MODIFIED:20240813T221501Z
UID:1444-1734134400-1734307199@fvdf.com.br
SUMMARY:3ª Etapa do Campeonato Brasiliense Aberto Adulto
DESCRIPTION:
URL:https://fvdf.com.br/calendario/3a-etapa-do-campeonato-brasiliense-aberto-adulto-3/
CATEGORIES:Competição,Vôlei de Quadra
ORGANIZER;CN="FVDF":MAILTO:distritofederal@volei.org.br
END:VEVENT
BEGIN:VEVENT
DTSTART;TZID=America/Sao_Paulo:20241214T080000
DTEND;TZID=America/Sao_Paulo:20241215T170000
DTSTAMP:20260423T093414
CREATED:20241002T211526Z
LAST-MODIFIED:20241002T211526Z
UID:1650-1734163200-1734282000@fvdf.com.br
SUMMARY:CAMPEONATO ADULTO ABERTO
DESCRIPTION:
URL:https://fvdf.com.br/calendario/campeonato-adulto-aberto-4/
CATEGORIES:Competição,Vôlei de Quadra
ORGANIZER;CN="FVDF":MAILTO:distritofederal@volei.org.br
END:VEVENT
END:VCALENDAR