BEGIN:VCALENDAR
VERSION:2.0
PRODID:-//FVDF - INGRESSOS - ECPv6.15.20//NONSGML v1.0//EN
CALSCALE:GREGORIAN
METHOD:PUBLISH
X-WR-CALNAME:FVDF - INGRESSOS
X-ORIGINAL-URL:https://fvdf.com.br
X-WR-CALDESC:Eventos para FVDF - INGRESSOS
REFRESH-INTERVAL;VALUE=DURATION:PT1H
X-Robots-Tag:noindex
X-PUBLISHED-TTL:PT1H
BEGIN:VTIMEZONE
TZID:America/Sao_Paulo
BEGIN:STANDARD
TZOFFSETFROM:-0300
TZOFFSETTO:-0300
TZNAME:-03
DTSTART:20230101T000000
END:STANDARD
END:VTIMEZONE
BEGIN:VEVENT
DTSTART;VALUE=DATE:20241012
DTEND;VALUE=DATE:20241014
DTSTAMP:20260423T142720
CREATED:20240813T215844Z
LAST-MODIFIED:20240813T215844Z
UID:1416-1728691200-1728863999@fvdf.com.br
SUMMARY:Campeonato Brasiliense Mirim
DESCRIPTION:
URL:https://fvdf.com.br/calendario/campeonato-brasiliense-mirim/
CATEGORIES:Competição,Vôlei de Quadra
ORGANIZER;CN="FVDF":MAILTO:distritofederal@volei.org.br
END:VEVENT
BEGIN:VEVENT
DTSTART;VALUE=DATE:20241012
DTEND;VALUE=DATE:20241014
DTSTAMP:20260423T142720
CREATED:20241002T210456Z
LAST-MODIFIED:20241002T210456Z
UID:1634-1728691200-1728863999@fvdf.com.br
SUMMARY:BRASILIENSE INFANTO
DESCRIPTION:
URL:https://fvdf.com.br/calendario/brasiliense-infanto/
CATEGORIES:Competição,Vôlei de Quadra
ORGANIZER;CN="FVDF":MAILTO:distritofederal@volei.org.br
END:VEVENT
END:VCALENDAR