BEGIN:VCALENDAR
VERSION:2.0
PRODID:-//FVDF - INGRESSOS - ECPv6.15.20//NONSGML v1.0//EN
CALSCALE:GREGORIAN
METHOD:PUBLISH
X-WR-CALNAME:FVDF - INGRESSOS
X-ORIGINAL-URL:https://fvdf.com.br
X-WR-CALDESC:Eventos para FVDF - INGRESSOS
REFRESH-INTERVAL;VALUE=DURATION:PT1H
X-Robots-Tag:noindex
X-PUBLISHED-TTL:PT1H
BEGIN:VTIMEZONE
TZID:America/Sao_Paulo
BEGIN:STANDARD
TZOFFSETFROM:-0300
TZOFFSETTO:-0300
TZNAME:-03
DTSTART:20230101T000000
END:STANDARD
END:VTIMEZONE
BEGIN:VEVENT
DTSTART;VALUE=DATE:20241019
DTEND;VALUE=DATE:20241021
DTSTAMP:20260423T142714
CREATED:20240813T220322Z
LAST-MODIFIED:20240813T220322Z
UID:1422-1729296000-1729468799@fvdf.com.br
SUMMARY:2º etapa do Campeonato Brasiliense Aberto Adulto
DESCRIPTION:
URL:https://fvdf.com.br/calendario/2o-etapa-do-campeonato-brasiliense-aberto-adulto-3/
CATEGORIES:Competição,Vôlei de Quadra
ORGANIZER;CN="FVDF":MAILTO:distritofederal@volei.org.br
END:VEVENT
BEGIN:VEVENT
DTSTART;VALUE=DATE:20241019
DTEND;VALUE=DATE:20241021
DTSTAMP:20260423T142714
CREATED:20241002T210554Z
LAST-MODIFIED:20241002T210554Z
UID:1636-1729296000-1729468799@fvdf.com.br
SUMMARY:BRASILIENSE INFANTO
DESCRIPTION:
URL:https://fvdf.com.br/calendario/brasiliense-infanto-2/
LOCATION:FVDF
CATEGORIES:Competição,Vôlei de Quadra
ORGANIZER;CN="FVDF":MAILTO:distritofederal@volei.org.br
END:VEVENT
END:VCALENDAR