BEGIN:VCALENDAR
VERSION:2.0
PRODID:-//FVDF - INGRESSOS - ECPv6.15.20//NONSGML v1.0//EN
CALSCALE:GREGORIAN
METHOD:PUBLISH
X-ORIGINAL-URL:https://fvdf.com.br
X-WR-CALDESC:Eventos para FVDF - INGRESSOS
REFRESH-INTERVAL;VALUE=DURATION:PT1H
X-Robots-Tag:noindex
X-PUBLISHED-TTL:PT1H
BEGIN:VTIMEZONE
TZID:America/Sao_Paulo
BEGIN:STANDARD
TZOFFSETFROM:-0300
TZOFFSETTO:-0300
TZNAME:-03
DTSTART:20230101T000000
END:STANDARD
END:VTIMEZONE
BEGIN:VEVENT
DTSTART;VALUE=DATE:20241025
DTEND;VALUE=DATE:20241028
DTSTAMP:20260423T143019
CREATED:20241002T210055Z
LAST-MODIFIED:20241002T210055Z
UID:1632-1729814400-1730073599@fvdf.com.br
SUMMARY:CIRCUITO DE VÔLEI DE PRAIA - CAMPEONATO
DESCRIPTION:
URL:https://fvdf.com.br/calendario/circuito-de-volei-de-praia-campeonato/
CATEGORIES:Competição,Vôlei de Praia
ORGANIZER;CN="FVDF":MAILTO:distritofederal@volei.org.br
END:VEVENT
BEGIN:VEVENT
DTSTART;VALUE=DATE:20241026
DTEND;VALUE=DATE:20241028
DTSTAMP:20260423T143019
CREATED:20240813T220434Z
LAST-MODIFIED:20240813T220434Z
UID:1424-1729900800-1730073599@fvdf.com.br
SUMMARY:2ª etapa do Campeonato Infanto Juvenil
DESCRIPTION:
URL:https://fvdf.com.br/calendario/2a-etapa-do-campeonato-infanto-juvenil/
CATEGORIES:Competição,Vôlei de Quadra
ORGANIZER;CN="FVDF":MAILTO:distritofederal@volei.org.br
END:VEVENT
END:VCALENDAR